BEGIN:VCALENDAR
VERSION:2.0
PRODID:-//R&amp;L Archery - ECPv6.15.17//NONSGML v1.0//EN
CALSCALE:GREGORIAN
METHOD:PUBLISH
X-ORIGINAL-URL:https://www.rlarchery.com
X-WR-CALDESC:Events for R&amp;L Archery
REFRESH-INTERVAL;VALUE=DURATION:PT1H
X-Robots-Tag:noindex
X-PUBLISHED-TTL:PT1H
BEGIN:VTIMEZONE
TZID:America/New_York
BEGIN:DAYLIGHT
TZOFFSETFROM:-0500
TZOFFSETTO:-0400
TZNAME:EDT
DTSTART:20250309T070000
END:DAYLIGHT
BEGIN:STANDARD
TZOFFSETFROM:-0400
TZOFFSETTO:-0500
TZNAME:EST
DTSTART:20251102T060000
END:STANDARD
BEGIN:DAYLIGHT
TZOFFSETFROM:-0500
TZOFFSETTO:-0400
TZNAME:EDT
DTSTART:20260308T070000
END:DAYLIGHT
BEGIN:STANDARD
TZOFFSETFROM:-0400
TZOFFSETTO:-0500
TZNAME:EST
DTSTART:20261101T060000
END:STANDARD
BEGIN:DAYLIGHT
TZOFFSETFROM:-0500
TZOFFSETTO:-0400
TZNAME:EDT
DTSTART:20270314T070000
END:DAYLIGHT
BEGIN:STANDARD
TZOFFSETFROM:-0400
TZOFFSETTO:-0500
TZNAME:EST
DTSTART:20271107T060000
END:STANDARD
END:VTIMEZONE
BEGIN:VEVENT
DTSTART;VALUE=DATE:20260321
DTEND;VALUE=DATE:20260323
DTSTAMP:20260424T064324
CREATED:20251223T221736Z
LAST-MODIFIED:20260212T212002Z
UID:20355-1774051200-1774223999@www.rlarchery.com
SUMMARY:Gun & Outdoor Sportsman Show\, Essex Junction
DESCRIPTION:
URL:https://www.rlarchery.com/events/gun-outdoor-sportsman-show-essex-junction/
LOCATION:Champlain Valley Exposition\, 105 Pearl Street\, Essex Junction\, VT\, 5452\, United States
ORGANIZER;CN="Larry Hamel":MAILTO:lwhamel@aol.com
END:VEVENT
END:VCALENDAR