BEGIN:VCALENDAR
VERSION:2.0
PRODID:-//R&amp;L Archery - ECPv6.15.17//NONSGML v1.0//EN
CALSCALE:GREGORIAN
METHOD:PUBLISH
X-WR-CALNAME:R&amp;L Archery
X-ORIGINAL-URL:https://www.rlarchery.com
X-WR-CALDESC:Events for R&amp;L Archery
REFRESH-INTERVAL;VALUE=DURATION:PT1H
X-Robots-Tag:noindex
X-PUBLISHED-TTL:PT1H
BEGIN:VTIMEZONE
TZID:America/New_York
BEGIN:DAYLIGHT
TZOFFSETFROM:-0500
TZOFFSETTO:-0400
TZNAME:EDT
DTSTART:20250309T070000
END:DAYLIGHT
BEGIN:STANDARD
TZOFFSETFROM:-0400
TZOFFSETTO:-0500
TZNAME:EST
DTSTART:20251102T060000
END:STANDARD
BEGIN:DAYLIGHT
TZOFFSETFROM:-0500
TZOFFSETTO:-0400
TZNAME:EDT
DTSTART:20260308T070000
END:DAYLIGHT
BEGIN:STANDARD
TZOFFSETFROM:-0400
TZOFFSETTO:-0500
TZNAME:EST
DTSTART:20261101T060000
END:STANDARD
BEGIN:DAYLIGHT
TZOFFSETFROM:-0500
TZOFFSETTO:-0400
TZNAME:EDT
DTSTART:20270314T070000
END:DAYLIGHT
BEGIN:STANDARD
TZOFFSETFROM:-0400
TZOFFSETTO:-0500
TZNAME:EST
DTSTART:20271107T060000
END:STANDARD
END:VTIMEZONE
BEGIN:VEVENT
DTSTART;TZID=America/New_York:20260316T180000
DTEND;TZID=America/New_York:20260316T180000
DTSTAMP:20260422T090657
CREATED:20260306T225758Z
LAST-MODIFIED:20260306T231041Z
UID:20401-1773684000-1773684000@www.rlarchery.com
SUMMARY:VT F&W Public Hearing on Deer and Moose Management\, Brattleboro
DESCRIPTION:MONTPELIER\, Vt. – The Vermont Fish and Wildlife Department and the Vermont Fish and Wildlife Board will hold public hearings on deer and moose management for 2026 on March 16\, 18 and 19.  \nThe hearings will include results of Vermont’s 2025 deer seasons and prospects for deer hunting next fall as well as an opportunity for people to provide their observations and opinions about the current status of the deer herd.  \nThe hearings will also include a review of the 2025 moose hunting seasons and an opportunity for the public to provide feedback on the number of moose permits recommended for 2026. \nThe hearings will open at 6:00 p.m. at these locations:  \nMarch 16 – Brattleboro High School\, 131 Fairground Rd\, Brattleboro\, VT 05301 \nMarch 18 – St. Johnsbury Academy\, 1000 Main St\, St Johnsbury\, VT 05819 \nMarch 19 – St. Albans City Hall\, 100 N. Main St\, St Albans City\, VT 05478 \nPre-recorded videos of the moose and deer presentations that will be given at these meetings will be available by going to the “Public Hearings Schedule” on Vermont Fish and Wildlife’s home page.  The Fish and Wildlife Department’s 2026 Moose Season Recommendation is also available on that page. \nIn addition to the public hearings\, anyone can leave a comment on the proposals by emailing ANR.FWPublicComment@vermont.gov.  Comments on moose must be received by March 31 and for deer by May 12.   
URL:https://www.rlarchery.com/events/vt-fw-public-hearings-on-deer-and-moose-management/
LOCATION:Brattleboro Union High School\, 131 Fairground Rd\, Brattleboro\, VT\, 05301\, United States
END:VEVENT
END:VCALENDAR